BEGIN:VCALENDAR
VERSION:2.0
PRODID:-//ChamberMaster//Event Calendar 2.0//EN
METHOD:PUBLISH
X-PUBLISHED-TTL:P3D
REFRESH-INTERVAL:P3D
CALSCALE:GREGORIAN
BEGIN:VEVENT
DTSTART:20190607T000000Z
DTEND:20190607T020000Z
X-MICROSOFT-CDO-ALLDAYEVENT:FALSE
SUMMARY:Sunset on the Square - The Amber McCain Band
DESCRIPTION:The Amber McCain Band\n\nFree concert on the Courthouse lawn. Bring your lawn chairs or picnic blankets. Food vendors will be on site. Presented by First Tennessee Bank.
X-ALT-DESC;FMTTYPE=text/html:The Amber McCain Band<br />\nFree concert on the Courthouse lawn. Bring your lawn chairs or picnic blankets. Food vendors will be on site. Presented by First Tennessee Bank.<br />\n<br />\n&nbsp\;
LOCATION:
UID:e.2573.2262
SEQUENCE:3
DTSTAMP:20260423T194851Z
URL:https://www.hernandoms.org/events/details/sunset-on-the-square-the-amber-mccain-band-2262
END:VEVENT

END:VCALENDAR
